BEGIN:VCALENDAR
VERSION:2.0
PRODID:-//ChamberMaster//Event Calendar 2.0//EN
METHOD:PUBLISH
X-PUBLISHED-TTL:P3D
REFRESH-INTERVAL:P3D
CALSCALE:GREGORIAN
BEGIN:VEVENT
DTSTART:20201026T223000Z
DTEND:20201027T000000Z
X-MICROSOFT-CDO-ALLDAYEVENT:FALSE
SUMMARY:2020: A year of Crises with State Treasurer Tobias Read
DESCRIPTION:A Townhall with State Treasurer Tobias Read\n\n \n\n2020 hasn't been easy for Astoria-Warrenton businesses. Although our county was largely spared from the recent wildfires\, months of dealing with COVID-19 has left a lasting impact that we are still experiencing on a daily basis.\n\n \n\nJoin us for a town-hall-style conversation with State Treasurer Tobias Read who wants to hear from our community about how businesses are getting through this crisis and learn how he can be helpful in his position as Oregon's Treasurer.\n\nRSVP here for Monday\, October 26\, at 3:30 p.m.
X-ALT-DESC;FMTTYPE=text/html:<span style="color:black\;"><span style="font-family:helvetica\,sans-serif\;"><span style="font-size:10.5pt\;">A Townhall with State Treasurer Tobias Read</span></span></span><br />\n&nbsp\;<br />\n<span style="color:black\;"><span style="font-family:helvetica\,sans-serif\;"><span style="font-size:10.5pt\;">2020 hasn&#39\;t been easy for Astoria-Warrenton businesses. Although our county was largely spared from the recent wildfires\, months of dealing with COVID-19 has left a lasting impact that we are still experiencing on a daily basis.</span></span></span><br />\n&nbsp\;<br />\n<span style="color:black\;"><span style="font-family:helvetica\,sans-serif\;"><span style="font-size:10.5pt\;">Join us for a town-hall-style conversation with State Treasurer Tobias Read who wants to hear from our community about how businesses are getting through this crisis and learn how he can be helpful in his position as Oregon&#39\;s Treasurer.</span></span></span><br />\n<span style="color:black\;"><span style="font-family:helvetica\,sans-serif\;"><span style="font-size:10.5pt\;"><a href="http://r20.rs6.net/tn.jsp?f=001eUY9TfolUKjS14amKuhFdCm_eDS0ZTQNIoYb52tCKgBI_1GCZ-_OYYSnO4LyGx08nQu1ye2phfke2Ccyrb9PfhaWWlh5VMiu_f3xnjeX8mKhYMHq2NpDx3oIrsbqQPgfxiH_sPewNe8HZ9SGWbSr5gJDxanz1EXCW7CHcud5v0XWlxnHSYhDhtXWwmnSXfNcTqKP2Rfn6GA-09o6dgb4r0Jprgc0URIP4nj7FthIieHnSuY1DTBtK9egFMABTdTHARbyRH7Fxu5aPNOjodydIbsEfvinkzlBOMGLmMWlQNhRsU3cn7uQqq2HN-eveCecMpIk3s13rRu-ujsaPCswKjEba-DEvQXQI5EjQ0oD9AyamalHzUyLTXPYSljU7OlnIbPaXvB82RV9A-JCy9L_ssOD0GB3I0bsWLfptKruSls=&amp\;c=z6wXoF_rDKfqgQN_l1oZ_nDGM3jw1Daxhs3zSGEAPZRmJsR-D_LqHg==&amp\;ch=RN1Zu7up00Y5xfEfYHHWyDdVXiVFr_KobPRSSoal5zWlxnNHi3iPNQ==" target="_blank"><span style="color:#3661BD\;">RSVP here</span></a></span></span></span> <span style="color:black\;"><span style="font-family:helvetica\,sans-serif\;"><span style="font-size:10.5pt\;">for Monday\, October 26\, at 3:30 p.m. </span></span></span>
LOCATION:Video conference via zoom
UID:e.149.28889
SEQUENCE:3
DTSTAMP:20260423T053042Z
URL:https://members.oldoregon.com/events/details/2020-a-year-of-crises-with-state-treasurer-tobias-read-28889
END:VEVENT

END:VCALENDAR
