BEGIN:VCALENDAR
VERSION:2.0
PRODID:-//ChamberMaster//Event Calendar 2.0//EN
METHOD:PUBLISH
X-PUBLISHED-TTL:P3D
REFRESH-INTERVAL:P3D
CALSCALE:GREGORIAN
BEGIN:VEVENT
DTSTART:20191029T144500Z
DTEND:20191029T160000Z
X-MICROSOFT-CDO-ALLDAYEVENT:FALSE
SUMMARY:A-W Chamber Networking Breakfast
DESCRIPTION:Our speaker will be Capt Dan Jordan with the Columbia River Bar Pilots
X-ALT-DESC;FMTTYPE=text/html:Our speaker will be Capt Dan Jordan with the Columbia River Bar Pilots
LOCATION:Astoria Brewing Company\, 144 11th St.\, Astoria
UID:e.149.3456
SEQUENCE:3
DTSTAMP:20260419T152002Z
URL:https://members.oldoregon.com/events/details/a-w-chamber-networking-breakfast-10-29-2019-3456
END:VEVENT

END:VCALENDAR
