BEGIN:VCALENDAR
VERSION:2.0
PRODID:-//ChamberMaster//Event Calendar 2.0//EN
METHOD:PUBLISH
X-PUBLISHED-TTL:P3D
REFRESH-INTERVAL:P3D
CALSCALE:GREGORIAN
BEGIN:VEVENT
DTSTART:20221025T144500Z
DTEND:20221025T160000Z
X-MICROSOFT-CDO-ALLDAYEVENT:FALSE
SUMMARY:A-W Chamber Networking Breakfast 2022 - Arts in Clatsop County
DESCRIPTION:Join the Astoria-Warrenton Area Chamber of Commerce for a Monthly Chamber Breakfast. \n\n\n\nFeatured presenters: Jennifer Crockett - Executive Director of the Liberty Theatre\, & Annie Eskelin - Executive Director of Astoria Visual Arts\nCoffee is held monthly at Astoria Brewing Company Pub located at 144 11th St.\, in Astoria.\n\n\n\nNetworking starts at 7:45 a.m. Breakfast is not being served at this time.\n\n\n\nCoffee is free\, courtesy of Coffee Sponsor: \n\nTLC\, A Division of Fibre Federal Credit Union
X-ALT-DESC;FMTTYPE=text/html:Join the Astoria-Warrenton Area Chamber of Commerce for a Monthly Chamber Breakfast.&nbsp\;<br />\n<br />\n<strong>Featured presenters: Jennifer Crockett - Executive Director of the Liberty Theatre\, &amp\; Annie Eskelin - Executive Director of Astoria Visual Arts</strong>\n<div background-attachment:="" background-clip:="" background-image:="" background-origin:="" background-position:="" background-repeat:="" background-size:="" border-collapse:="" border-radius:="" box-shadow:="" box-sizing:="" clear:="" color:="" content:="" direction:="" empty-cells:="" float:="" font-size:="" font-stretch:="" font-variant-east-asian:="" font-variant-numeric:="" height:="" helvetica="" inset:="" line-height:="" max-height:="" max-width:="" min-height:="" min-width:="" opacity:="" outline-offset:="" overflow-wrap:="" overflow:="" position:="" resize:="" table-layout:="" text-overflow:="" vertical-align:="" visibility:="" width:="" word-break:="" z-index:="">Coffee is held monthly at Astoria Brewing Company Pub located at&nbsp\;144 11th St.\, in&nbsp\;Astoria.<br />\n<br />\nNetworking starts at 7:45 a.m. Breakfast is not being served at this time.<br />\n<br />\n<strong>Coffee is free\, courtesy of Coffee Sponsor:</strong>&nbsp\;<br />\n<a href="https://www.tlcfcu.org/" target="_blank">TLC\, A Division of Fibre Federal Credit Union</a><br />\n&nbsp\;</div>\n
LOCATION:Astoria Brewing Company Pub 144 11th St.\, Astoria
UID:e.149.30921
SEQUENCE:3
DTSTAMP:20260421T003445Z
URL:https://members.oldoregon.com/events/details/a-w-chamber-networking-breakfast-2022-arts-in-clatsop-county-30921
END:VEVENT

END:VCALENDAR
