BEGIN:VCALENDAR
VERSION:2.0
PRODID:-//ChamberMaster//Event Calendar 2.0//EN
METHOD:PUBLISH
X-PUBLISHED-TTL:P3D
REFRESH-INTERVAL:P3D
CALSCALE:GREGORIAN
BEGIN:VEVENT
DTSTART:20260323T170000Z
DTEND:20260323T190000Z
X-MICROSOFT-CDO-ALLDAYEVENT:FALSE
SUMMARY:Aesthetic Traditions: Free Philosophy Class for People Who Art
DESCRIPTION:Philosophies of art from around the world and through time will be examined. We'll look at Ancient Greek\, Chinese\, Japanese\, and Indian traditions\, then journey forward through time to the European Enlightenment\, Romanticism and Postmodernism.  Everything will be examined through a comparative lens.\n\n\n\n3/9 Aesthetics of the European Enlightenment\n\n3/16 Aesthetics of the Romantic Era\n\n3/23 Aesthetics of the (post) Modern Era
X-ALT-DESC;FMTTYPE=text/html:Philosophies of art from around the world and through time will be examined. We&#39\;ll look at Ancient Greek\, Chinese\, Japanese\, and Indian traditions\, then journey forward through time to the European Enlightenment\, Romanticism and Postmodernism.&nbsp\; Everything will be examined through a comparative lens.<br />\n<br />\n3/9 Aesthetics of the European Enlightenment<br />\n3/16 Aesthetics of the Romantic Era<br />\n3/23 Aesthetics of the (post) Modern Era
LOCATION:376 10th St in the Astoria Studio Collective - thanks to Cambium Gallery and Coffee for being in cahoots with us!
UID:e.149.43987
SEQUENCE:3
DTSTAMP:20260424T170645Z
URL:https://members.oldoregon.com/events/details/aesthetic-traditions-free-philosophy-class-for-people-who-art-03-23-2026-43987
END:VEVENT

END:VCALENDAR
