BEGIN:VCALENDAR
VERSION:2.0
PRODID:-//ChamberMaster//Event Calendar 2.0//EN
METHOD:PUBLISH
X-PUBLISHED-TTL:P3D
REFRESH-INTERVAL:P3D
CALSCALE:GREGORIAN
BEGIN:VEVENT
DTSTART:20240608T200000Z
DTEND:20240608T220000Z
X-MICROSOFT-CDO-ALLDAYEVENT:FALSE
SUMMARY:Alternative Art Surfaces
DESCRIPTION:Second Saturday Art Walk Art Loft Resident Artist Brandii O'Reagan will demonstrate how she creates art on "non-traditional surfaces." From the paper Brandii makes to the pieces of organic materials she finds along coastal waterways and mountain paths\, she will invite you to try your hand on these surfaces using different mediums. Find out more about Brandii's artistic journey by clicking on this link www.astoriaartloft.com/artist-studios.php
X-ALT-DESC;FMTTYPE=text/html:Second Saturday Art Walk Art Loft Resident Artist Brandii O&#39\;Reagan will demonstrate how she creates art on &quot\;non-traditional surfaces.&quot\; From the paper Brandii makes to the pieces of organic materials she finds along coastal waterways and mountain paths\, she will invite you to try your hand on these surfaces using different mediums. Find out more about Brandii&#39\;s artistic journey by clicking on this link www.astoriaartloft.com/artist-studios.php
LOCATION:106 3rd st\,Astoria
UID:e.149.36380
SEQUENCE:3
DTSTAMP:20260422T080753Z
URL:https://members.oldoregon.com/events/details/alternative-art-surfaces-36380
END:VEVENT

END:VCALENDAR
