BEGIN:VCALENDAR
VERSION:2.0
PRODID:-//ChamberMaster//Event Calendar 2.0//EN
METHOD:PUBLISH
X-PUBLISHED-TTL:P3D
REFRESH-INTERVAL:P3D
CALSCALE:GREGORIAN
BEGIN:VEVENT
DTSTART:20211128T003000Z
DTEND:20211128T020000Z
X-MICROSOFT-CDO-ALLDAYEVENT:FALSE
SUMMARY:Astoria Downtown Holiday Lighting
DESCRIPTION:DOWNTOWN HOLIDAY LIGHTING\n\nSaturday\, November 27th\n\n4:30-6pm\, 12th & Commercial\n\nJoin us for the Annual Downtown Holiday Lighting Ceremony. With carolers\, holiday tunes\, Santa Claus\, and the Mayor\, we'll be counting down to the big moment when all the lights brighten Downtown Astoria!
X-ALT-DESC;FMTTYPE=text/html:<h5 style="box-sizing: border-box\; margin: 0.2rem -3px 0px 0px\; padding: 0px\; font-family: Raleway\, &quot\;Open Sans&quot\;\, &quot\;Helvetica Neue&quot\;\, Helvetica\, Helvetica\, Arial\, sans-serif\; font-weight: bold\; color: rgb(0\, 0\, 0)\; text-rendering: optimizelegibility\; line-height: normal\; text-transform: uppercase\; letter-spacing: 1px\; -webkit-text-stroke: rgb(0\, 0\, 0)\; font-stretch: normal\; font-size: 18px !important\;"><span style="box-sizing: border-box\; font-family: &quot\;Helvetica Neue&quot\;\, Helvetica\, Helvetica\, Arial\, sans-serif\; font-size: 24px\; color: rgb(34\, 34\, 34)\;">DOWNTOWN HOLIDAY LIGHTING</span></h5>\n\n<p style="box-sizing: border-box\; margin: 0px\; padding: 0px\; font-family: &quot\;Helvetica Neue&quot\;\, Helvetica\, Helvetica\, Arial\, sans-serif\; font-size: 14px\; line-height: normal\; text-rendering: optimizelegibility\; -webkit-text-stroke: rgb(0\, 0\, 0)\; color: rgb(0\, 0\, 0)\; font-stretch: normal\;"><span style="box-sizing: border-box\; font-size: 16px\; color: rgb(34\, 34\, 34)\; line-height: 1.6 !important\;"><strong style="box-sizing: border-box\; line-height: inherit\;">Saturday\, November 27th</strong></span></p>\n\n<p style="box-sizing: border-box\; margin: 0px\; padding: 0px\; font-family: &quot\;Helvetica Neue&quot\;\, Helvetica\, Helvetica\, Arial\, sans-serif\; font-size: 14px\; line-height: normal\; text-rendering: optimizelegibility\; -webkit-text-stroke: rgb(0\, 0\, 0)\; color: rgb(0\, 0\, 0)\; font-stretch: normal\;"><span style="box-sizing: border-box\; font-size: 16px\; font-family: &quot\;Open Sans&quot\;\, &quot\;Helvetica Neue&quot\;\, Helvetica\, Helvetica\, Arial\, sans-serif !important\; line-height: 1.6 !important\;">4:30-6pm\, 12th &amp\; Commercial</span></p>\n\n<p style="box-sizing: border-box\; margin: 0px\; padding: 0px\; font-family: &quot\;Helvetica Neue&quot\;\, Helvetica\, Helvetica\, Arial\, sans-serif\; font-size: 11px\; line-height: normal\; text-rendering: optimizelegibility\; -webkit-text-stroke: rgb(0\, 0\, 0)\; color: rgb(0\, 0\, 0)\; font-stretch: normal\;"><span style="box-sizing: border-box\; font-size: small\; color: rgb(34\, 34\, 34)\; line-height: 1.6 !important\;">Join us for the Annual&nbsp\;<a href="https://fb.me/e/1i4j26UVT" style="box-sizing: border-box\; text-decoration-line: none\; line-height: inherit\; color: rgb(69\, 69\, 69) !important\;"><span style="box-sizing: border-box\; font-size: 15px\; text-decoration-line: underline\; color: rgb(79\, 129\, 189)\; font-family: &quot\;Open Sans&quot\;\, &quot\;Helvetica Neue&quot\;\, Helvetica\, Helvetica\, Arial\, sans-serif !important\; line-height: 1.6 !important\;">Downtown Holiday Lighting Ceremony</span></a>. With carolers\, holiday tunes\, Santa Claus\, and the Mayor\, we&#39\;ll be counting down to the big moment when all the lights brighten Downtown Astoria!</span></p>\n
LOCATION:12th & Commercial\, near the LIberty Theatre
UID:e.149.29793
SEQUENCE:3
DTSTAMP:20260425T030334Z
URL:https://members.oldoregon.com/events/details/astoria-downtown-holiday-lighting-29793
END:VEVENT

END:VCALENDAR
