BEGIN:VCALENDAR
VERSION:2.0
PRODID:-//ChamberMaster//Event Calendar 2.0//EN
METHOD:PUBLISH
X-PUBLISHED-TTL:P3D
REFRESH-INTERVAL:P3D
CALSCALE:GREGORIAN
BEGIN:VEVENT
DTSTART:20260426T000000Z
DTEND:20260426T040000Z
X-MICROSOFT-CDO-ALLDAYEVENT:FALSE
SUMMARY:Benefit Concert
DESCRIPTION:Benefit Concert\n\nfor our local food pantries\n\n\n\nCome enjoy the music and help feed our neighbors.\n\n	The Irie Swamp Panthers Reggae Tribute Band\n	Billy and the Nightcats\n	Gummo's Navy\n	Three by Dave\n	Lorenzo Unplugged\n	Stephan Herman\n\n\n\nSaturday April 25\n\n5-9 p.m.\n\nAstor Street Opry Company Playhouse\n\n129 W Bond\, Astoria
X-ALT-DESC;FMTTYPE=text/html:<span style="font-size:18px\;"><strong>Benefit Concert<br />\nfor our local food pantries</strong></span><br />\n<br />\n<span style="font-size:16px\;"><em>Come enjoy the music and help feed our neighbors.</em></span>\n<ul>\n	<li>The Irie Swamp Panthers Reggae Tribute Band</li>\n	<li>Billy and the Nightcats</li>\n	<li>Gummo&#39\;s Navy</li>\n	<li>Three by Dave</li>\n	<li>Lorenzo Unplugged</li>\n	<li>Stephan Herman</li>\n</ul>\n<br />\nSaturday April 25<br />\n5-9 p.m.<br />\nAstor Street Opry Company Playhouse<br />\n129 W Bond\, Astoria<br />\n&nbsp\;
LOCATION:Astor Street Opry Company Playhouse 129 W Bond\, Astoria
UID:e.149.44144
SEQUENCE:3
DTSTAMP:20260421T045933Z
URL:https://members.oldoregon.com/events/details/benefit-concert-44144
END:VEVENT

END:VCALENDAR
