BEGIN:VCALENDAR
VERSION:2.0
PRODID:-//ChamberMaster//Event Calendar 2.0//EN
METHOD:PUBLISH
X-PUBLISHED-TTL:P3D
REFRESH-INTERVAL:P3D
CALSCALE:GREGORIAN
BEGIN:VEVENT
DTSTART:20191020T020000Z
DTEND:20191020T040000Z
X-MICROSOFT-CDO-ALLDAYEVENT:FALSE
SUMMARY:BloodyVox Halloween
DESCRIPTION:BLOODYVOX with BodyVox\n\n\n\nSaturday October 19th\, 7pm $20-35\n\nUnder 18 $5 in our Box Office\n\n\n\nSpend a spooky October night in one of Astoria's most famously haunted places! Start with a group of beautiful and talented dancers\, add a hint of Hitchcock\, a touch of Vampire\, top it off with a healthy dose of ghosts and zombies and you get BLOODYVOX\, a dance theater experience that mines cinema\, folklore and our collective nightmares to bring the season of spirits and All Hallows Eve to life. Funny\, bloody\, and full of great dancing\, this is Halloween as only BodyVox can imagine it. This delightfully creepy show is a must see for the entire family!
X-ALT-DESC;FMTTYPE=text/html:<span style="color: rgb(29\, 33\, 41)\; font-family: Helvetica\, Arial\, sans-serif\; font-size: 14px\; white-space: pre-wrap\;">BLOODYVOX with BodyVox</span><br style="color: rgb(29\, 33\, 41)\; font-family: Helvetica\, Arial\, sans-serif\; font-size: 14px\; white-space: pre-wrap\;" />\n<br style="color: rgb(29\, 33\, 41)\; font-family: Helvetica\, Arial\, sans-serif\; font-size: 14px\; white-space: pre-wrap\;" />\n<span style="color: rgb(29\, 33\, 41)\; font-family: Helvetica\, Arial\, sans-serif\; font-size: 14px\; white-space: pre-wrap\;">Saturday October 19th\, 7pm $20-35</span><br style="color: rgb(29\, 33\, 41)\; font-family: Helvetica\, Arial\, sans-serif\; font-size: 14px\; white-space: pre-wrap\;" />\n<span style="color: rgb(29\, 33\, 41)\; font-family: Helvetica\, Arial\, sans-serif\; font-size: 14px\; white-space: pre-wrap\;">Under 18 $5 in our Box Office</span><br style="color: rgb(29\, 33\, 41)\; font-family: Helvetica\, Arial\, sans-serif\; font-size: 14px\; white-space: pre-wrap\;" />\n<br style="color: rgb(29\, 33\, 41)\; font-family: Helvetica\, Arial\, sans-serif\; font-size: 14px\; white-space: pre-wrap\;" />\n<span style="color: rgb(29\, 33\, 41)\; font-family: Helvetica\, Arial\, sans-serif\; font-size: 14px\; white-space: pre-wrap\;">Spend a spooky October night in one of Astoria&#39\;s most famously haunted places! Start with a group of beautiful and talented dancers\, add a hint of Hitchcock\, a touch of Vampire\, top it off with a healthy dose of ghosts and zombies and you get BLOODYVOX\, a dance theater experience that mines cinema\, folklore and our collective nightmares to bring the season of spirits and All Hallows Eve to life. Funny\, bloody\, and full of great dancing\, this is Halloween as only BodyVox can imagine it. This delightfully creepy show is a must see for the entire family!</span>
LOCATION:Liberty Theatre Astoria\, Oregon
UID:e.149.28078
SEQUENCE:3
DTSTAMP:20260419T164122Z
URL:https://members.oldoregon.com/events/details/bloodyvox-halloween-28078
END:VEVENT

END:VCALENDAR
