BEGIN:VCALENDAR
VERSION:2.0
PRODID:-//ChamberMaster//Event Calendar 2.0//EN
METHOD:PUBLISH
X-PUBLISHED-TTL:P3D
REFRESH-INTERVAL:P3D
CALSCALE:GREGORIAN
BEGIN:VEVENT
DTSTART:20191102T160000Z
DTEND:20191103T003000Z
X-MICROSOFT-CDO-ALLDAYEVENT:FALSE
SUMMARY:Brim’s Farm and Garden Celebrates 33rd Anniversary and 2019 Purina® Check-R-Board® Days
DESCRIPTION:Brim's Farm and Garden\, a Purina  Certified Expert Dealer\, is announcing their 2019 Purina  Check-R-Board  Days\, a customer appreciation event. Their event celebrates 33 years of serving the lower Columbia region as a Purina dealer. Stop by Brim's Farm and Garden located at 34963 Hwy 101 in Astoria\, OR on Saturday\, November 2nd. Join us from 9 am to 5:30 pm for snacks\, refreshments\, and fun! Chowder Feed from 10 am to 2pm. There will be a petting zoo\, kids' corner & face painting so bring the whole family. Door prizes all day long. Attendees can enter for a chance to win a $200 Brim's gift card. Great sales throughout the store\, and lots of great samples. We hope to see you there!
X-ALT-DESC;FMTTYPE=text/html:Brim&rsquo\;s Farm and Garden\, a Purina&reg\; Certified Expert Dealer\, is announcing their 2019 Purina&reg\; Check-R-Board&reg\; Days\, a customer appreciation event. Their event celebrates 33 years of serving the lower Columbia region as a Purina dealer. Stop by Brim&rsquo\;s Farm and Garden located at 34963 Hwy 101 in Astoria\, OR on Saturday\, November 2nd. Join us from 9 am to 5:30 pm for snacks\, refreshments\, and fun! Chowder Feed from 10 am to 2pm. There will be a petting zoo\, kids&rsquo\; corner &amp\; face painting so bring the whole family. Door prizes all day long. Attendees can enter for a chance to win a $200 Brim&rsquo\;s gift card. Great sales throughout the store\, and lots of great samples. We hope to see you there!
LOCATION:Brim's Farm & Garden\, 34963 US-101 Business\, Astoria\, OR 97103
UID:e.149.28098
SEQUENCE:3
DTSTAMP:20260422T121106Z
URL:https://members.oldoregon.com/events/details/brim-s-farm-and-garden-celebrates-33rd-anniversary-and-2019-purina-check-r-board-days-28098
END:VEVENT

END:VCALENDAR
