BEGIN:VCALENDAR
VERSION:2.0
PRODID:-//ChamberMaster//Event Calendar 2.0//EN
METHOD:PUBLISH
X-PUBLISHED-TTL:P3D
REFRESH-INTERVAL:P3D
CALSCALE:GREGORIAN
BEGIN:VEVENT
DTSTART:20200925T150000Z
DTEND:20200927T190000Z
X-MICROSOFT-CDO-ALLDAYEVENT:FALSE
SUMMARY:Coast Pregnancy Clinic Virtual Banquet
DESCRIPTION:Virtual Banquet with Watch Party Hosts Mike Slater speaker Email jan@coastpregnancyclinic.org to register for a link or for hosting information
X-ALT-DESC;FMTTYPE=text/html:Virtual Banquet with Watch Party Hosts Mike Slater speaker Email jan@coastpregnancyclinic.org to register for a link or for hosting information
LOCATION:
UID:e.149.28807
SEQUENCE:3
DTSTAMP:20260424T071728Z
URL:https://members.oldoregon.com/events/details/coast-pregnancy-clinic-virtual-banquet-28807
END:VEVENT

END:VCALENDAR
