BEGIN:VCALENDAR
VERSION:2.0
PRODID:-//ChamberMaster//Event Calendar 2.0//EN
METHOD:PUBLISH
X-PUBLISHED-TTL:P3D
REFRESH-INTERVAL:P3D
CALSCALE:GREGORIAN
BEGIN:VEVENT
DTSTART;VALUE=DATE:20170218
DTEND;VALUE=DATE:20170219
TRANSP:TRANSPARENT
X-MICROSOFT-CDO-ALLDAYEVENT:TRUE
SUMMARY:Crab & Oyster Feed - Puget Island
DESCRIPTION:Join us for the 32nd annual Wahkiakum Chamber of Commerce Crab & Oyster Feed! Food\, fun\, friends and prizes!\n\n\n\nPurchase a raffle ticket (or serveral) for $1 each during your seating. Over 50 prizes provided by local businesses will be won. Need not be present to win.\n\n\n\nAges 21+ and over. Bring your own condiments and cracking tools. Please do not bring alcohol on site. Beer and wine available for sale. River Mile 38 brews on tap.\n\n\n\nProceeds benefit Bald Eagle Days\, a Wahkiakum Chamber sponsored event.
X-ALT-DESC;FMTTYPE=text/html:Join us for the 32nd annual Wahkiakum Chamber of Commerce Crab &amp\; Oyster Feed! Food\, fun\, friends and prizes!<br />\n<br />\nPurchase a raffle ticket (or serveral) for $1 each during your seating. Over 50 prizes provided by local businesses will be won. Need not be present to win.<br />\n<br />\nAges 21+ and over. Bring your own condiments and cracking tools. Please do not bring alcohol on site. Beer and wine available for sale. River Mile 38 brews on tap.<br />\n<br />\nProceeds benefit Bald Eagle Days\, a Wahkiakum Chamber sponsored event.
LOCATION:Norse Hall on Puget Island
UID:e.149.15490
SEQUENCE:3
DTSTAMP:20260421T091214Z
URL:https://members.oldoregon.com/events/details/crab-oyster-feed-puget-island-15490
END:VEVENT

END:VCALENDAR
