BEGIN:VCALENDAR
VERSION:2.0
PRODID:-//ChamberMaster//Event Calendar 2.0//EN
METHOD:PUBLISH
X-PUBLISHED-TTL:P3D
REFRESH-INTERVAL:P3D
CALSCALE:GREGORIAN
BEGIN:VEVENT
DTSTART:20260516T180000Z
DTEND:20260516T220000Z
X-MICROSOFT-CDO-ALLDAYEVENT:FALSE
SUMMARY:EAA Flying Start Program
DESCRIPTION:For ages 18 yrs + If you've ever dreamed of flying\, here's your chance to discover the fun\, freedom\, & possibilities of flying. EAA Chapter 1696\, with participation from Astoria Aviation\, is hosting a free informational meeting. You will get practical answers to your questions about learning to fly. Following the presentation\, attendees will have the opportunity to take a complimentary Eagle Flight.
X-ALT-DESC;FMTTYPE=text/html:For ages 18 yrs + If you&#39\;ve ever dreamed of flying\, here&#39\;s your chance to discover the fun\, freedom\, &amp\; possibilities of flying. EAA Chapter 1696\, with participation from Astoria Aviation\, is hosting a free informational meeting. You will get practical answers to your questions about learning to fly. Following the presentation\, attendees will have the opportunity to take a complimentary Eagle Flight.
LOCATION:Astoria Regional Airport FBO 1100 SE Flight Line Drive Warrenton\, OR
UID:e.149.44145
SEQUENCE:3
DTSTAMP:20260422T065744Z
URL:https://members.oldoregon.com/events/details/eaa-flying-start-program-44145
END:VEVENT

END:VCALENDAR
