BEGIN:VCALENDAR
VERSION:2.0
PRODID:-//ChamberMaster//Event Calendar 2.0//EN
METHOD:PUBLISH
X-PUBLISHED-TTL:P3D
REFRESH-INTERVAL:P3D
CALSCALE:GREGORIAN
BEGIN:VEVENT
DTSTART:20260404T013000Z
DTEND:20260404T023000Z
X-MICROSOFT-CDO-ALLDAYEVENT:FALSE
SUMMARY:Encore presents Cinderella
DESCRIPTION:Encore Dance Studio Presents "Cinderella" Encore Dance Studio invites the community to a magical performance of "Cinderella" on Friday\, April 3 at 6:30pm at the historic Liberty Theatre in Astoria. Local dancers of all ages will bring the beloved fairytale to life through dance in this family-friendly production filled with charming characters and beautiful storytelling. Donations will be accepted at the door to support the Encore Performing Arts Foundation\, which provides scholarships and arts opportunities for local students. This enchanting performance is perfect for children and families. More Information - 503-861-1637
X-ALT-DESC;FMTTYPE=text/html:Encore Dance Studio Presents &ldquo\;Cinderella&rdquo\; Encore Dance Studio invites the community to a magical performance of &ldquo\;Cinderella&rdquo\; on Friday\, April 3 at 6:30pm at the historic Liberty Theatre in Astoria. Local dancers of all ages will bring the beloved fairytale to life through dance in this family-friendly production filled with charming characters and beautiful storytelling. Donations will be accepted at the door to support the Encore Performing Arts Foundation\, which provides scholarships and arts opportunities for local students. This enchanting performance is perfect for children and families. More Information - 503-861-1637
LOCATION:The Liberty Theatre
UID:e.149.43995
SEQUENCE:3
DTSTAMP:20260421T171908Z
URL:https://members.oldoregon.com/events/details/encore-presents-cinderella-43995
END:VEVENT

END:VCALENDAR
