BEGIN:VCALENDAR
VERSION:2.0
PRODID:-//ChamberMaster//Event Calendar 2.0//EN
METHOD:PUBLISH
X-PUBLISHED-TTL:P3D
REFRESH-INTERVAL:P3D
CALSCALE:GREGORIAN
BEGIN:VEVENT
DTSTART:20250906T010000Z
DTEND:20250906T031500Z
X-MICROSOFT-CDO-ALLDAYEVENT:FALSE
SUMMARY:feral flora monthly bingo
DESCRIPTION:Luck Takes Root at Feral Flora!\n\nWildwood Wager: Botanical Bingo Every 1st Friday\n\nOnce a month\, under the glow of the growlights\, plant lovers gather to test their luck at Wildwood Wager... our chaotic & charming Bingo night where fortunes grow on leaves and every round is a chance to take home your new planty familiar. To Join the Fray: Head to feralflorapnw.com/events & invite your luckiest plant-loving pals!\n\n\n\nDate: Every 1st Friday\n\nTime: 6:00 PM   8:15 PM (Doors open at 5:30 PM for check-in. Balls drop at 6 PM.)\n\nRefreshments: Pizza from The Pizza Spot + enchanted drinks & snacks available!\n\nThis event is 21+ (Please bring a valid ID... a forest spirit can't vouch for you.)\n\n\n\nHow It Works:\n\nThe $5 ticket gets you one bingo card + reserves your seat (Additional cards are $1)\n\nPlay up to 20 rounds... use multiple cards to summon luck from every corner\n\nWin plants each round... from sweet lettle succulents to wild\, googly-eyed oddballs you didn't know you needed\n\n\n\nCancellation Policy:\n\nFull refund if you cancel 48+ hours ahead.\n\nWithin 48 hours = no refund\, but we'll release your spot back into the wild.\n\n\n\nSpots disappear faster than moonlight on moss... grab yours here: feralflorapnw.com/events\n\n\n\nMay the fates (& bingo balls) be ever in your favour!
X-ALT-DESC;FMTTYPE=text/html:<p><em>Luck Takes Root at Feral Flora!</em><br />\nWildwood Wager: Botanical Bingo Every 1st Friday</p>\n\n<p>Once a month\, under the glow of the growlights\, plant lovers gather to test their luck at <em>Wildwood Wager</em>... our chaotic &amp\; charming Bingo night where fortunes grow on leaves and every round is a chance to take home your new planty familiar. <strong>To Join the Fray:</strong> Head to <a href="https://feralflorapnw.com/events" rel="noopener" target="_new">feralflorapnw.com/events</a> &amp\; invite your luckiest plant-loving pals!<br />\n<br />\nDate: Every 1st Friday<br />\nTime: 6:00 PM &ndash\; 8:15 PM (Doors open at 5:30 PM for check-in. Balls drop at 6 PM.)<br />\nRefreshments: Pizza from The Pizza Spot + enchanted drinks &amp\; snacks available!<br />\nThis event is 21+ (Please bring a valid ID... a forest spirit can&#39\;t vouch for you.)<br />\n<br />\nHow It Works:<br />\nThe $5 ticket gets you one bingo card + reserves your seat (Additional cards are $1)<br />\nPlay up to 20 rounds... use multiple cards to summon luck from every corner<br />\nWin plants each round... from sweet lettle succulents to wild\, googly-eyed oddballs you didn&rsquo\;t know you needed<br />\n<br />\nCancellation Policy:<br />\nFull refund if you cancel 48+ hours ahead.<br />\nWithin 48 hours = no refund\, but we&rsquo\;ll release your spot back into the wild.<br />\n<br />\nSpots disappear faster than moonlight on moss... grab yours here: <a href="https://feralflorapnw.com/events" rel="noopener" target="_new">feralflorapnw.com/events</a><br />\n<br />\nMay the fates (&amp\; bingo balls) be ever in your favour!&nbsp\;</p>\n
LOCATION:1008 Commercial St\, Astoria\, OR 97103
UID:e.149.41569
SEQUENCE:3
DTSTAMP:20260419T130352Z
URL:https://members.oldoregon.com/events/details/feral-flora-09-05-2025-41569
END:VEVENT

END:VCALENDAR
