BEGIN:VCALENDAR
VERSION:2.0
PRODID:-//ChamberMaster//Event Calendar 2.0//EN
METHOD:PUBLISH
X-PUBLISHED-TTL:P3D
REFRESH-INTERVAL:P3D
CALSCALE:GREGORIAN
BEGIN:VEVENT
DTSTART;VALUE=DATE:20210423
DTEND;VALUE=DATE:20210510
TRANSP:TRANSPARENT
X-MICROSOFT-CDO-ALLDAYEVENT:TRUE
SUMMARY:Festival Feast Dining Passport
DESCRIPTION:THE FESTIVAL FEAST EXPANDS BEYOND OUR ONLINE FESTIVAL TO SMALL COMMUNITY EVENTS AND A DINING PASSPORT WITH SPECIAL OFFERS AT AREA RESTAURANTS AND MORE.\n\n\n\nDINING PASSPORT\n\nIf you live in the Astoria Warrenton Area or are going to be in town\, you can still get your crab\, seafood and wine fix this year. The Astoria-Warrenton Area Chamber of Commerce has put together a "Festival Feast" dining passport to take your tastebuds for the grand tour.\n\nWe are thrilled to offer this opportunity to connect our Astoria Warrenton Crab\, Seafood & Wine Festival enthusiasts with Astoria & Warrenton area restaurants. Each participating business offers a unique taste of the delicious bounty of the Oregon Coast. From local seafood to global fare\, hometown favorites and new delights\, this passport provides a guided tour for your next mealtime.\n\n\n\nCLICK HERE TO LEARN MORE AND SIGN UP!\n\nThis promotion is supported by our partner Our Coast Weekend.\n\n\n\nEvery time you check-in using your dining passport\, you will be automatically entered into our multiple prize drawings. Prizes include gift certificates to local restaurants and seafood markets\, tickets to area museums\, merchandise from the Astoria Warrenton Crab\, Seafood & Wine Festival\, and more! Check in between Monday and Thursday and we'll double your entries.\n\n\n\nGrand prize: An Astoria getaway\, valued at more than $700\, which includes an overnight stay at Bowline Hotel (opening summer 2021)\, a Columbia River Cruises river tour\, dinner at Buoy Beer Company\, a sampler of Oregon wines and more.
X-ALT-DESC;FMTTYPE=text/html:<div>\n<div>\n<p>THE FESTIVAL FEAST EXPANDS BEYOND OUR ONLINE FESTIVAL TO SMALL&nbsp\;COMMUNITY EVENTS<a data-id="#commevents" data-type="internal" href="https://astoriacrabfest.com/festival-feast/#commevents">&nbsp\;</a>AND A DINING PASSPORT WITH SPECIAL OFFERS AT AREA RESTAURANTS AND MORE.</p>\n</div>\n</div>\n\n<p><strong>DINING PASSPORT</strong></p>\n\n<p>If you live in the Astoria Warrenton Area or are going to be in town\, you can still get your crab\, seafood and wine fix this year. The Astoria-Warrenton Area Chamber of Commerce has put together a &ldquo\;Festival Feast&rdquo\; dining passport to take your tastebuds for the grand tour.</p>\n\n<p>We are thrilled to offer this opportunity to connect our Astoria Warrenton Crab\, Seafood &amp\; Wine Festival enthusiasts with Astoria &amp\; Warrenton area restaurants. Each participating business offers a unique taste of the delicious bounty of the Oregon Coast. From local seafood to global fare\, hometown favorites and new delights\, this passport provides a guided tour for your next mealtime.<br />\n<br />\n<a href="https://astoriacrabfest.com/festival-feast/dining-passport/" target="_blank">CLICK HERE TO LEARN MORE AND SIGN UP!</a></p>\n\n<p>This promotion is supported by our partner&nbsp\;<a href="https://www.discoverourcoast.com/coast-weekend/" rel="noreferrer noopener" target="_blank">Our Coast Weekend</a>.<br />\n<br />\nEvery time you check-in using your dining passport\, you will be automatically entered into our multiple prize drawings. Prizes include gift certificates to local restaurants and seafood markets\, tickets to area museums\, merchandise from the Astoria Warrenton Crab\, Seafood &amp\; Wine Festival\, and more! Check in between Monday and Thursday and we&rsquo\;ll double your entries.<br />\n<br />\nGrand prize: An Astoria getaway\, valued at more than $700\, which includes an overnight stay at&nbsp\;<a href="https://bowlinehotel.com/" rel="noreferrer noopener" target="_blank">Bowline Hotel</a>&nbsp\;(opening summer 2021)\, a&nbsp\;<a href="https://columbiarivercruises.com/" rel="noreferrer noopener" target="_blank">Columbia River Cruises</a>&nbsp\;river tour\, dinner at&nbsp\;<a href="https://www.buoybeer.com/" rel="noreferrer noopener" target="_blank">Buoy Beer Company</a>\, a sampler of Oregon wines and more.&nbsp\;</p>\n
LOCATION:
UID:e.149.29571
SEQUENCE:3
DTSTAMP:20260423T234510Z
URL:https://members.oldoregon.com/events/details/festival-feast-dining-passport-29571
END:VEVENT

END:VCALENDAR
