BEGIN:VCALENDAR
VERSION:2.0
PRODID:-//ChamberMaster//Event Calendar 2.0//EN
METHOD:PUBLISH
X-PUBLISHED-TTL:P3D
REFRESH-INTERVAL:P3D
CALSCALE:GREGORIAN
BEGIN:VEVENT
DTSTART;VALUE=DATE:20261011
DTEND;VALUE=DATE:20261012
TRANSP:TRANSPARENT
X-MICROSOFT-CDO-ALLDAYEVENT:TRUE
SUMMARY:Great Columbia Crossing 10K Run Walk
DESCRIPTION:Experience the glory of the Great Columbia River as you trek across the Astoria Megler Bridge during this unique opportunity to walk/run across the bridge! The 10k offers a scenic adventure on a fairly flat road with one STEEP incline to the peak of the bridge. It is the longest continuous truss bridge in North America.\n\n\n\nWhether you?re an experienced runner or looking for a family friendly event\, the Great Columbia Crossing 10k appeals to everyone.
X-ALT-DESC;FMTTYPE=text/html:<span itemprop="description"><span class="fsl">Experience the glory of the Great Columbia River as you trek across the Astoria Megler Bridge during this unique opportunity to walk/run across the bridge! The 10k offers a scenic adventure on a fairly flat road with one STEEP incline to the peak of the bridge. It is the longest continuous truss bridge in North America.<br>\n<br>\nWhether you?re an experienced runner or looking for a family friendly event\, the Great Columbia Crossing 10k appeals to everyone. </span></span>
LOCATION:Astoria-Megler Bridge
UID:e.149.43951
SEQUENCE:3
DTSTAMP:20260420T204720Z
URL:https://members.oldoregon.com/events/details/great-columbia-crossing-10k-run-walk-10-11-2026-43951
END:VEVENT

END:VCALENDAR
