BEGIN:VCALENDAR
VERSION:2.0
PRODID:-//ChamberMaster//Event Calendar 2.0//EN
METHOD:PUBLISH
X-PUBLISHED-TTL:P3D
REFRESH-INTERVAL:P3D
CALSCALE:GREGORIAN
BEGIN:VEVENT
DTSTART:20201220T200000Z
DTEND:20201221T000000Z
X-MICROSOFT-CDO-ALLDAYEVENT:FALSE
SUMMARY:Holiday Tea and Plum Pudding at the Flavel House Museum
DESCRIPTION:Enjoy a relaxing afternoon with a cup of tea and traditional holiday plum pudding in the festively decorated historic Flavel House Museum. "Tea and Plum Pudding" is held each weekend during December from 12-4 PM.\n\n\n\nPlum Pudding is a traditional Victorian Holiday treat. According to Victorian author\, Satenig St. Marie\, "Plum Pudding was believed to have magical powers including the ability to make peace. A husband and wife who had had a misunderstanding would be reconciled by the moral influence of the pudding while stirring it".\n\nCost per person is $12.00 and includes fresh\, warm plum pudding\, a cup of tea and self-guided tour of the beautiful Flavel House Museum. Reservations are recommended for groups of eight or more.
X-ALT-DESC;FMTTYPE=text/html:<p>&nbsp\;</p>\n\n<p style="text-align:left">Enjoy a relaxing afternoon with a cup of tea and traditional holiday plum pudding in the festively decorated historic Flavel House Museum. &quot\;Tea and Plum Pudding&quot\; is held <strong><u>each weekend </u></strong>during December from 12-4 PM.<br />\n<br />\n<span style="background-color:rgb(255\, 255\, 255)\; color:rgb(0\, 0\, 0)\; font-family:arial\,helvetica\,sans-serif\; font-size:10pt">Plum Pudding is a traditional Victorian Holiday treat. According to Victorian author\, Satenig St. Marie\, &quot\;Plum Pudding was believed to have magical powers including the ability to make peace. A husband and wife who had had a misunderstanding would be reconciled by the moral influence of the pudding while stirring it&quot\;.</span></p>\n\n<p style="text-align:left">Cost per person is $12.00 and includes fresh\, warm plum pudding\, a cup of tea and self-guided tour of the beautiful Flavel House Museum. Reservations are recommended for groups of eight or more.</p>\n
LOCATION:441 8th St Astoria\, OR 97103
UID:e.149.28427
SEQUENCE:3
DTSTAMP:20260419T171404Z
URL:https://members.oldoregon.com/events/details/holiday-tea-and-plum-pudding-at-the-flavel-house-museum-12-20-2020-28427
END:VEVENT

END:VCALENDAR
