BEGIN:VCALENDAR
VERSION:2.0
PRODID:-//ChamberMaster//Event Calendar 2.0//EN
METHOD:PUBLISH
X-PUBLISHED-TTL:P3D
REFRESH-INTERVAL:P3D
CALSCALE:GREGORIAN
BEGIN:VEVENT
DTSTART:20260628T230000Z
DTEND:20260629T010000Z
X-MICROSOFT-CDO-ALLDAYEVENT:FALSE
SUMMARY:Just for the Fun of It - Again!
DESCRIPTION:Who: The North Coast Chorale\n\nDate: Sunday\, June 28\, 2026\n\nTime: 4:00 p.m.\n\nTitle: "Just for the Fun of It - Again!"\n\nMusic: The Beatles\, The Mamas & The Papas\, Chicago\, Disco\, and more\n\nPurpose: Annual Benefit for the Charlene Larsen Center\n\nTicket Price: Pay what you can. Suggested donation - $10
X-ALT-DESC;FMTTYPE=text/html:<p>Who: The North Coast Chorale<br />\nDate: Sunday\, June 28\, 2026<br />\nTime: 4:00 p.m.<br />\nTitle: &quot\;Just for the Fun of It - Again!&quot\;<br />\nMusic: The Beatles\, The Mamas &amp\; The Papas\, Chicago\, Disco\, and more<br />\nPurpose: Annual Benefit for the Charlene Larsen Center<br />\nTicket Price: Pay what you can. Suggested donation - $10</p>\n
LOCATION:Charlene Larsen Center for the Performing Arts
UID:e.149.44142
SEQUENCE:3
DTSTAMP:20260422T083747Z
URL:https://members.oldoregon.com/events/details/just-for-the-fun-of-it-again-44142
END:VEVENT

END:VCALENDAR
