BEGIN:VCALENDAR
VERSION:2.0
PRODID:-//ChamberMaster//Event Calendar 2.0//EN
METHOD:PUBLISH
X-PUBLISHED-TTL:P3D
REFRESH-INTERVAL:P3D
CALSCALE:GREGORIAN
BEGIN:VEVENT
DTSTART:20220514T030000Z
DTEND:20220514T070000Z
X-MICROSOFT-CDO-ALLDAYEVENT:FALSE
SUMMARY:Local Live Music/indie rock
DESCRIPTION:NOMO Jed Campiche Local indie rock Live at the Merry Time Bar NO cover. 21+ only Full bar.
X-ALT-DESC;FMTTYPE=text/html:NOMO Jed Campiche Local indie rock Live at the Merry Time Bar NO cover. 21+ only Full bar.
LOCATION:995 Marine Drive Merry Time Bar
UID:e.149.30813
SEQUENCE:3
DTSTAMP:20260426T003512Z
URL:https://members.oldoregon.com/events/details/local-live-music-indie-rock-05-13-2022-30813
END:VEVENT

END:VCALENDAR
