BEGIN:VCALENDAR
VERSION:2.0
PRODID:-//ChamberMaster//Event Calendar 2.0//EN
METHOD:PUBLISH
X-PUBLISHED-TTL:P3D
REFRESH-INTERVAL:P3D
CALSCALE:GREGORIAN
BEGIN:VEVENT
DTSTART:20180603T020000Z
DTEND:20180603T033500Z
X-MICROSOFT-CDO-ALLDAYEVENT:FALSE
SUMMARY:OBT2 Tour
DESCRIPTION:Established in 2015\, OBT2 is composed of talented dancers\, chosen from the most gifted students at the top levels of the Oregon Ballet Theatre School. On the cusp of a professional career\, these dancers will perform a gorgeously curated collection of excerpts from iconic classical and contemporary ballets\, including Claire de Lune from OBT Resident Choreographer Nicolo Fonte's Beasts\, a compilation of joyful and energetic pieces choreographed by the Danish Master August Bournonville\, as well as works by Marius Petipa\, and Nacho Duato. Together\, the works will explore ballet's rich and varied history.
X-ALT-DESC;FMTTYPE=text/html:Established in 2015\, OBT2 is composed of talented dancers\, chosen from the most gifted students at the top levels of the Oregon Ballet Theatre School. On the cusp of a professional career\, these dancers will perform a gorgeously curated collection of excerpts from iconic classical and contemporary ballets\, including Claire de Lune from OBT Resident Choreographer Nicolo Fonte&rsquo\;s Beasts\, a compilation of joyful and energetic pieces choreographed by the Danish Master August Bournonville\, as well as works by Marius Petipa\, and Nacho Duato. Together\, the works will explore ballet&rsquo\;s rich and varied history.
LOCATION:Astoria High School Auditorium 1001 W. Marine Drive Astoria\, OR 97103
UID:e.149.26406
SEQUENCE:3
DTSTAMP:20260422T182133Z
URL:https://members.oldoregon.com/events/details/obt2-tour-26406
END:VEVENT

END:VCALENDAR
