BEGIN:VCALENDAR
VERSION:2.0
PRODID:-//ChamberMaster//Event Calendar 2.0//EN
METHOD:PUBLISH
X-PUBLISHED-TTL:P3D
REFRESH-INTERVAL:P3D
CALSCALE:GREGORIAN
BEGIN:VEVENT
DTSTART:20260402T003000Z
DTEND:20260402T020000Z
X-MICROSOFT-CDO-ALLDAYEVENT:FALSE
SUMMARY:Scoundrels Discussion: What is community?
DESCRIPTION:The Last Refuge of Scoundrels is a free weekly philosophy discussion group where Astoria residents gather to think through big questions together   about identity\, technology\, meaning\, work\, and whatever else deserves more than a quick answer. A philosopher guides the conversation\, but there's no lecture and no homework. Just 90 minutes of genuine inquiry with neighbors who like to think out loud. It's been running for over a decade\, and new faces are always welcome.
X-ALT-DESC;FMTTYPE=text/html:The Last Refuge of Scoundrels is a free weekly philosophy discussion group where Astoria residents gather to think through big questions together &mdash\; about identity\, technology\, meaning\, work\, and whatever else deserves more than a quick answer. A philosopher guides the conversation\, but there&#39\;s no lecture and no homework. Just 90 minutes of genuine inquiry with neighbors who like to think out loud. It&#39\;s been running for over a decade\, and new faces are always welcome.
LOCATION:Bridge & Tunnel Bottle Shop 1390 Duane St. Astoria OR 97103 (in the back room)
UID:e.149.43992
SEQUENCE:3
DTSTAMP:20260421T172113Z
URL:https://members.oldoregon.com/events/details/scoundrels-discussion-what-is-community-43992
END:VEVENT

END:VCALENDAR
