BEGIN:VCALENDAR
VERSION:2.0
PRODID:-//ChamberMaster//Event Calendar 2.0//EN
METHOD:PUBLISH
X-PUBLISHED-TTL:P3D
REFRESH-INTERVAL:P3D
CALSCALE:GREGORIAN
BEGIN:VEVENT
DTSTART;VALUE=DATE:20200708
DTEND;VALUE=DATE:20200709
TRANSP:TRANSPARENT
X-MICROSOFT-CDO-ALLDAYEVENT:TRUE
SUMMARY:Seaman's Day-Fort Clatsop
DESCRIPTION:Honoring Seaman\,  Meriwether Lewis' Newfound dog
X-ALT-DESC;FMTTYPE=text/html:Honoring Seaman\,&nbsp\; Meriwether Lewis&#39\; Newfound dog
LOCATION:
UID:e.149.28303
SEQUENCE:3
DTSTAMP:20260421T173622Z
URL:https://members.oldoregon.com/events/details/seaman-s-day-fort-clatsop-28303
END:VEVENT

END:VCALENDAR
