BEGIN:VCALENDAR
VERSION:2.0
PRODID:-//ChamberMaster//Event Calendar 2.0//EN
METHOD:PUBLISH
X-PUBLISHED-TTL:P3D
REFRESH-INTERVAL:P3D
CALSCALE:GREGORIAN
BEGIN:VEVENT
DTSTART:20190208T020000Z
DTEND:20190208T033000Z
X-MICROSOFT-CDO-ALLDAYEVENT:FALSE
SUMMARY:Tarot: Guidance for your Healing Journey
DESCRIPTION:This 6-week course will use tarot to guide you on our own unique journey of healing. Each week we will use the cards to identify an emerging theme that we'll individually and collectively explore through journaling\, guided visualization\, gentle movement and more. No tarot experience needed. Please bring a notebook or journal and tarot cards if you have them. Tarot decks available if needed. This is a free class open to community members\, CMH staff and patients. Led by Julia Hesse\, innovative tarot teacher and creator of the Living Tarot Oracle  6-week course\, Thursdays\, Feb 7   March 14
X-ALT-DESC;FMTTYPE=text/html:This 6-week course will use tarot to guide you on our own unique journey of healing. Each week we will use the cards to identify an emerging theme that we&rsquo\;ll individually and collectively explore through journaling\, guided visualization\, gentle movement and more. No tarot experience needed. Please bring a notebook or journal and tarot cards if you have them. Tarot decks available if needed. This is a free class open to community members\, CMH staff and patients. Led by Julia Hesse\, innovative tarot teacher and creator of the Living Tarot Oracle&trade\; 6-week course\, Thursdays\, Feb 7 &ndash\; March 14
LOCATION:CMH-OHSU Knight Cancer Collaborative\, Activities Classroom 128\, 1905 Exchange Street\, Astoria\, OR 97103
UID:e.149.27175
SEQUENCE:3
DTSTAMP:20260420T175105Z
URL:https://members.oldoregon.com/events/details/tarot-guidance-for-your-healing-journey-27175
END:VEVENT

END:VCALENDAR
