BEGIN:VCALENDAR
VERSION:2.0
PRODID:-//ChamberMaster//Event Calendar 2.0//EN
METHOD:PUBLISH
X-PUBLISHED-TTL:P3D
REFRESH-INTERVAL:P3D
CALSCALE:GREGORIAN
BEGIN:VEVENT
DTSTART:20260605T023000Z
DTEND:20260605T040000Z
X-MICROSOFT-CDO-ALLDAYEVENT:FALSE
SUMMARY:The Taming
DESCRIPTION:Ten Fifteen Productions pivots once again with The Taming.\n\nAstoria\, OR - Ten Fifteen Productions is once again proving its agility since a storm caused significant damage to its Astoria Odd Fellows building home last December. Due to a number of outside factors\, the theater will be reopening with a different production than planned. Theatre enthusiasts should mark their calendars for May 29th for opening night of The Taming by Lauren Gunderson. Director Katherine Lacaze leads a powerhouse cast and crew in this political farce that takes the place of the originally scheduled production of Sensitive Guys.\n\nIn an email to patrons\, executive artistic director\, Danyelle Tinker\, stated "Changing scripts after the season has been planned and announced is not something I did lightly\; but fear you not\, dear friends\, as the new show promises to be the hilarious reset we all need right now. The Taming is a laugh-a-minute while still touching on some important topics facing our country and government. Frankly\, if I had read this script a year ago\, it would have been a planned part of the season to begin with."\n\nAbout the show: Tweetering\, panda shrews\, and undying giddiness for James Madison   what else could you expect to find at a Miss America pageant? In this hilarious\, raucous\, all-female "power-play" inspired by Shakespeare's Shrew\, contestant Katherine has political aspirations to match her beauty pageant ambitions. All she needs to revolutionize the American government is the help of one ultra-conservative senator's aide on the cusp of a career breakthrough\, and one bleeding-heart liberal blogger who will do anything for her cause. Well\, that and a semi-historically-accurate ether trip. Here's lookin' at you\, America.\n\nCast:\n\nKatherine: Holly Marsh\n\nPatricia: Cyndi Fisher\n\nBianca: Autumn Phillips\n\nEssential Information:\n\nThe Taming written by Lauren Gunderson\n\nDirected by Katherine Lacaze\n\nTen Fifteen Theater\n\n11015 Commercial St - Astoria\, OR 97103\n\nMay 29th\, 30th\, June 5th\, 6th\, 11th\, 12th\, and 13th at 7:30pm\n\nMay 31st and June 7th at 3:30pm\n\nPay What You Can Preview - May 28th at 7:30pm\n\nTickets are $20-$25\, and are available online at www.thetenfifteentheater.com.\n\n$5 Arts for All tickets are available by contacting the box office.\n\nThe Taming is presented by arrangement with Concord Theatricals on behalf of Dramatists Play Service. www.concordtheatricals.com
X-ALT-DESC;FMTTYPE=text/html:<p><strong>Ten Fifteen Productions pivots once again with <em>The Taming.</em></strong></p>\n\n<p><span style="color:rgba(0\,0\,0\,var(--O42jJQ\,1))">Astoria\, OR - Ten Fifteen Productions is once again proving its agility since a storm caused significant damage to its Astoria Odd Fellows building home last December. Due to a number of outside factors\, the theater will be reopening with a different production than planned. Theatre enthusiasts should mark their calendars for May 29</span><span style="color:rgba(0\,0\,0\,var(--O42jJQ\,1))">th</span><span style="color:rgba(0\,0\,0\,var(--O42jJQ\,1))"> for opening night of </span><em>The Taming</em><span style="color:rgba(0\,0\,0\,var(--O42jJQ\,1))"> by Lauren Gunderson. Director Katherine Lacaze leads a powerhouse cast and crew in this political farce that takes the place of the originally scheduled production of </span><em>Sensitive Guys.</em></p>\n\n<p><span style="color:rgba(0\,0\,0\,var(--O42jJQ\,1))">In an email to patrons\, executive artistic director\, Danyelle Tinker\, stated &ldquo\;Changing scripts after the season has been planned and announced is not something I did lightly\; but fear you not\, dear friends\, as the new show promises to be the hilarious reset we all need right now. </span><em>The Taming</em><span style="color:rgba(0\,0\,0\,var(--O42jJQ\,1))"> is a laugh-a-minute while still touching on some important topics facing our country and government. Frankly\, if I had read this script a year ago\, it would have been a planned part of the season to begin with.&rdquo\;</span></p>\n\n<p><strong>About the show:&nbsp\;</strong><span style="color:rgba(0\,0\,0\,var(--O42jJQ\,1))">Tweetering\, panda shrews\, and undying giddiness for James Madison &ndash\; what else could you expect to find at a Miss America pageant? In this hilarious\, raucous\, all-female &ldquo\;power-play&rdquo\; inspired by Shakespeare&lsquo\;s Shrew\, contestant Katherine has political aspirations to match her beauty pageant ambitions. All she needs to revolutionize the American government is the help of one ultra-conservative senator&lsquo\;s aide on the cusp of a career breakthrough\, and one bleeding-heart liberal blogger who will do anything for her cause. Well\, that and a semi-historically-accurate ether trip. Here&lsquo\;s lookin&lsquo\; at you\, America.</span></p>\n\n<p><strong>Cast:</strong><br />\n<span style="color:rgba(0\,0\,0\,var(--O42jJQ\,1))">Katherine: Holly Marsh</span><br />\n<span style="color:rgba(0\,0\,0\,var(--O42jJQ\,1))">Patricia: Cyndi Fisher</span><br />\n<span style="color:rgba(0\,0\,0\,var(--O42jJQ\,1))">Bianca: Autumn Phillips</span></p>\n\n<p><strong>Essential Information:</strong><br />\n<em>The Taming w</em><span style="color:rgba(0\,0\,0\,var(--O42jJQ\,1))">ritten by Lauren Gunderson</span><br />\n<span style="color:rgba(0\,0\,0\,var(--O42jJQ\,1))">Directed by Katherine Lacaze</span></p>\n\n<p><span style="color:rgba(0\,0\,0\,var(--O42jJQ\,1))">Ten Fifteen Theater</span><br />\n<span style="color:rgba(0\,0\,0\,var(--O42jJQ\,1))">11015 Commercial St - Astoria\, OR 97103</span></p>\n\n<p><span style="color:rgba(0\,0\,0\,var(--O42jJQ\,1))">May 29</span><span style="color:rgba(0\,0\,0\,var(--O42jJQ\,1))">th</span><span style="color:rgba(0\,0\,0\,var(--O42jJQ\,1))">\, 30</span><span style="color:rgba(0\,0\,0\,var(--O42jJQ\,1))">th</span><span style="color:rgba(0\,0\,0\,var(--O42jJQ\,1))">\, June 5</span><span style="color:rgba(0\,0\,0\,var(--O42jJQ\,1))">th</span><span style="color:rgba(0\,0\,0\,var(--O42jJQ\,1))">\, 6</span><span style="color:rgba(0\,0\,0\,var(--O42jJQ\,1))">th</span><span style="color:rgba(0\,0\,0\,var(--O42jJQ\,1))">\, 11</span><span style="color:rgba(0\,0\,0\,var(--O42jJQ\,1))">th</span><span style="color:rgba(0\,0\,0\,var(--O42jJQ\,1))">\, 12</span><span style="color:rgba(0\,0\,0\,var(--O42jJQ\,1))">th</span><span style="color:rgba(0\,0\,0\,var(--O42jJQ\,1))">\, and 13</span><span style="color:rgba(0\,0\,0\,var(--O42jJQ\,1))">th</span><span style="color:rgba(0\,0\,0\,var(--O42jJQ\,1))"> at 7:30pm</span><br />\n<span style="color:rgba(0\,0\,0\,var(--O42jJQ\,1))">May 31</span><span style="color:rgba(0\,0\,0\,var(--O42jJQ\,1))">st</span><span style="color:rgba(0\,0\,0\,var(--O42jJQ\,1))"> and June 7</span><span style="color:rgba(0\,0\,0\,var(--O42jJQ\,1))">th</span><span style="color:rgba(0\,0\,0\,var(--O42jJQ\,1))"> at 3:30pm</span><br />\n<span style="color:rgba(0\,0\,0\,var(--O42jJQ\,1))">Pay What You Can Preview - May 28</span><span style="color:rgba(0\,0\,0\,var(--O42jJQ\,1))">th</span><span style="color:rgba(0\,0\,0\,var(--O42jJQ\,1))"> at 7:30pm</span></p>\n\n<p><span style="color:rgba(0\,0\,0\,var(--O42jJQ\,1))">Tickets are $20-$25\, and are available online at www.thetenfifteentheater.com.</span></p>\n\n<p><span style="color:rgba(0\,0\,0\,var(--O42jJQ\,1))">$5 Arts for All tickets are available by contacting the box office.</span></p>\n\n<p><em>The Taming </em><span style="color:rgba(0\,0\,0\,var(--O42jJQ\,1))">is presented by arrangement with Concord Theatricals on behalf of Dramatists Play Service. www.concordtheatricals.com</span></p>\n
LOCATION:The Ten Fifteen Theater 1015 Commercial St Astoria\, OR 97103
UID:e.149.44135
SEQUENCE:3
DTSTAMP:20260422T083616Z
URL:https://members.oldoregon.com/events/details/the-taming-06-04-2026-44135
END:VEVENT

END:VCALENDAR
