BEGIN:VCALENDAR
VERSION:2.0
PRODID:-//ChamberMaster//Event Calendar 2.0//EN
METHOD:PUBLISH
X-PUBLISHED-TTL:P3D
REFRESH-INTERVAL:P3D
CALSCALE:GREGORIAN
BEGIN:VEVENT
DTSTART:20261118T000000Z
DTEND:20261118T020000Z
X-MICROSOFT-CDO-ALLDAYEVENT:FALSE
SUMMARY:United Way's Iron Chef Goes Coastal
DESCRIPTION:United Way's Iron Chef Goes Coastal is an exciting\, community-driven fundraiser that brings together talented local chefs and restaurants for a friendly culinary competition. Attendees can sample delicious bites from dozens of vendors\, casting their votes for favorites in both savory and dessert categories. The highlight of the event is a live\, on-stage cooking showdown where chefs compete in real time\, with a panel of judges selecting the ultimate winner. As United Way's largest fundraiser of the year\, Iron Chef Goes Coastal plays a vital role in supporting the community raising a significant portion of the funds distributed annually to local nonprofits. Every dollar generated goes directly back to those organizations\, ensuring meaningful impact where it's needed most.
X-ALT-DESC;FMTTYPE=text/html:United Way&rsquo\;s Iron Chef Goes Coastal is an exciting\, community-driven fundraiser that brings together talented local chefs and restaurants for a friendly culinary competition. Attendees can sample delicious bites from dozens of vendors\, casting their votes for favorites in both savory and dessert categories. The highlight of the event is a live\, on-stage cooking showdown where chefs compete in real time\, with a panel of judges selecting the ultimate winner. As United Way&rsquo\;s largest fundraiser of the year\, Iron Chef Goes Coastal plays a vital role in supporting the community&mdash\;raising a significant portion of the funds distributed annually to local nonprofits. Every dollar generated goes directly back to those organizations\, ensuring meaningful impact where it&rsquo\;s needed most.
LOCATION:Seaside Convention Center 415 First Avenue Seaside\, OR 97138
UID:e.149.44143
SEQUENCE:3
DTSTAMP:20260421T045952Z
URL:https://members.oldoregon.com/events/details/united-way-s-iron-chef-goes-coastal-44143
END:VEVENT

END:VCALENDAR
