BEGIN:VCALENDAR
VERSION:2.0
PRODID:-//ChamberMaster//Event Calendar 2.0//EN
METHOD:PUBLISH
X-PUBLISHED-TTL:P3D
REFRESH-INTERVAL:P3D
CALSCALE:GREGORIAN
BEGIN:VEVENT
DTSTART;VALUE=DATE:20200307
DTEND;VALUE=DATE:20200308
TRANSP:TRANSPARENT
X-MICROSOFT-CDO-ALLDAYEVENT:TRUE
SUMMARY:UNWINED
DESCRIPTION:ONLINE TICKETING CLOSED.\n\nCall the Chamber at (503) 325-6311 to purchase tickets!\n\n\n\nSip and savor award-winning wine during the tasting event which occurs immediately following the official wine competition for the 2020 Astoria Warrenton Crab\, Seafood & Wine Festival. Enjoy tasty hors d'oeuvres and listen to live music!
X-ALT-DESC;FMTTYPE=text/html:<br />\n<br />\n<span style="font-family: Arial\, Helvetica\, sans-serif\; font-size: 14px\;"><strong>ONLINE TICKETING CLOSED.<br />\nCall the Chamber at (503) 325-6311 to purchase tickets!</strong><br />\n<br />\nSip and savor award-winning wine during the tasting event which occurs immediately following the official wine competition for the 2020 Astoria Warrenton Crab\, Seafood &amp\; Wine Festival. Enjoy tasty hors d&#39\;oeuvres and listen to live music!</span>
LOCATION:The Liberty Theatre (enter via side door on 12th Street)\, Astoria
UID:e.149.27355
SEQUENCE:3
DTSTAMP:20260425T215037Z
URL:https://members.oldoregon.com/events/details/unwined-27355
END:VEVENT

END:VCALENDAR
