BEGIN:VCALENDAR
VERSION:2.0
PRODID:-//ChamberMaster//Event Calendar 2.0//EN
METHOD:PUBLISH
X-PUBLISHED-TTL:P3D
REFRESH-INTERVAL:P3D
CALSCALE:GREGORIAN
BEGIN:VEVENT
DTSTART:20260502T210000Z
DTEND:20260502T230000Z
X-MICROSOFT-CDO-ALLDAYEVENT:FALSE
SUMMARY:Vintage Fashion Show & Tea
DESCRIPTION:A Mother's Day Tea and Vintage Fashion Show is being hosted on May 2nd in First Presbyterian Church's Goodenberger Hall at 2:00pm. The event will include a Cake Walk\, Best Hat Contest\, Silent Auction\, Door Prizes\, and High Tea\, as well as a Vintage Fashion Show with song and dance performances. The event will finish with authentic gowns from the film "Titanic". This fundraiser supports an important historical building housing two church families\, a musical conservatory\, dance academy\, and food bank. Thank you for your kind consideration\, and we look forward to seeing you there!
X-ALT-DESC;FMTTYPE=text/html:A Mother&rsquo\;s Day Tea and Vintage Fashion Show is being hosted on May 2nd in First Presbyterian Church&#39\;s Goodenberger Hall at 2:00pm. The event will include a Cake Walk\, Best Hat Contest\, Silent Auction\, Door Prizes\, and High Tea\, as well as a Vintage Fashion Show with song and dance performances. The event will finish with authentic gowns from the film &ldquo\;Titanic&rdquo\;. This fundraiser supports an important historical building housing two church families\, a musical conservatory\, dance academy\, and food bank. Thank you for your kind consideration\, and we look forward to seeing you there!
LOCATION:First Presbyterian Church's Goodenberger Hall 1103 Grand Ave Astoria OR
UID:e.149.44146
SEQUENCE:3
DTSTAMP:20260422T064701Z
URL:https://members.oldoregon.com/events/details/vintage-fashion-show-tea-44146
END:VEVENT

END:VCALENDAR
