BEGIN:VCALENDAR
VERSION:2.0
PRODID:-//ChamberMaster//Event Calendar 2.0//EN
METHOD:PUBLISH
X-PUBLISHED-TTL:P3D
REFRESH-INTERVAL:P3D
CALSCALE:GREGORIAN
BEGIN:VEVENT
DTSTART:20190509T003000Z
DTEND:20190509T013000Z
X-MICROSOFT-CDO-ALLDAYEVENT:FALSE
SUMMARY:Warrenton Business Association meeting
DESCRIPTION:The meeting is held the second Wednesday of each month at the Warrenton city hall commission room.
X-ALT-DESC;FMTTYPE=text/html:The meeting is held the second Wednesday of each month at the Warrenton city hall commission room.
LOCATION:Warrenton city hall commission meeting room
UID:e.149.7596
SEQUENCE:3
DTSTAMP:20260422T224712Z
URL:https://members.oldoregon.com/events/details/warrenton-business-association-meeting-05-08-2019-7596
END:VEVENT

END:VCALENDAR
