BEGIN:VCALENDAR
VERSION:2.0
PRODID:-//ChamberMaster//Event Calendar 2.0//EN
METHOD:PUBLISH
X-PUBLISHED-TTL:P3D
REFRESH-INTERVAL:P3D
CALSCALE:GREGORIAN
BEGIN:VEVENT
DTSTART:20191026T180000Z
DTEND:20191027T000000Z
X-MICROSOFT-CDO-ALLDAYEVENT:FALSE
SUMMARY:Warrenton Fall Festival
DESCRIPTION:Join us Saturday October 26th 11am to 5 pm at the Warrenton City Park for our first ever Fall Festival! Admission is absolutely free. \n\nThere will be carnival games\, a pumpkin patch\, prizes\, food and vendors!\n\nWe will also have free Trunk-or-Treat\, hay rides\, bounce house\, petting zoo\, face painting\, pumpkin decorating\, and games for smaller kids.\n\nPetting zoo\, bounce house and hayrides will be weather permitting.\n\nDon't forget your costume for the trunk or treat!\n\nCan't wait to see you there! \n\n\n\nA big thank you to the generous local businesses and the Warrenton Business association as well as all the community volunteers!
X-ALT-DESC;FMTTYPE=text/html:<span style="color: rgb(29\, 33\, 41)\; font-family: Helvetica\, Arial\, sans-serif\; font-size: 14px\; white-space: pre-wrap\;">Join us Saturday October 26th 11am to 5 pm at the Warrenton City Park for our first ever Fall Festival! </span><span style="color: rgb(29\, 33\, 41)\; font-family: Helvetica\, Arial\, sans-serif\; font-size: 14px\; white-space: pre-wrap\;">Admission is absolutely free. </span><br style="color: rgb(29\, 33\, 41)\; font-family: Helvetica\, Arial\, sans-serif\; font-size: 14px\; white-space: pre-wrap\;" />\n<span style="color: rgb(29\, 33\, 41)\; font-family: Helvetica\, Arial\, sans-serif\; font-size: 14px\; white-space: pre-wrap\;">There will be carnival games\, a pumpkin patch\, prizes\, food and vendors!</span><br style="color: rgb(29\, 33\, 41)\; font-family: Helvetica\, Arial\, sans-serif\; font-size: 14px\; white-space: pre-wrap\;" />\n<span style="color: rgb(29\, 33\, 41)\; font-family: Helvetica\, Arial\, sans-serif\; font-size: 14px\; white-space: pre-wrap\;">We will also have free Trunk-or-Treat\, hay rides\, bounce house\, petting zoo\, face painting\, pumpkin decorating\, and games for smaller kids.</span><br style="color: rgb(29\, 33\, 41)\; font-family: Helvetica\, Arial\, sans-serif\; font-size: 14px\; white-space: pre-wrap\;" />\n<span style="color: rgb(29\, 33\, 41)\; font-family: Helvetica\, Arial\, sans-serif\; font-size: 14px\; white-space: pre-wrap\;">Petting zoo\, bounce house and hayrides will be weather permitting.</span><br style="color: rgb(29\, 33\, 41)\; font-family: Helvetica\, Arial\, sans-serif\; font-size: 14px\; white-space: pre-wrap\;" />\n<span style="color: rgb(29\, 33\, 41)\; font-family: Helvetica\, Arial\, sans-serif\; font-size: 14px\; white-space: pre-wrap\;">Don&rsquo\;t forget your costume for the trunk or treat!</span><br style="color: rgb(29\, 33\, 41)\; font-family: Helvetica\, Arial\, sans-serif\; font-size: 14px\; white-space: pre-wrap\;" />\n<span style="color: rgb(29\, 33\, 41)\; font-family: Helvetica\, Arial\, sans-serif\; font-size: 14px\; white-space: pre-wrap\;">Can&rsquo\;t wait to see you there! </span><br style="color: rgb(29\, 33\, 41)\; font-family: Helvetica\, Arial\, sans-serif\; font-size: 14px\; white-space: pre-wrap\;" />\n<br style="color: rgb(29\, 33\, 41)\; font-family: Helvetica\, Arial\, sans-serif\; font-size: 14px\; white-space: pre-wrap\;" />\n<span style="color: rgb(29\, 33\, 41)\; font-family: Helvetica\, Arial\, sans-serif\; font-size: 14px\; white-space: pre-wrap\;">A big thank you to the generous local businesses and the Warrenton Business association as well as all the community volunteers!</span>
LOCATION:Quincy Robinson Community Park 170 SW 3rd St Warrenton\, Oregon 97146
UID:e.149.28073
SEQUENCE:3
DTSTAMP:20260419T135640Z
URL:https://members.oldoregon.com/events/details/warrenton-fall-festival-28073
END:VEVENT

END:VCALENDAR
