BEGIN:VCALENDAR
VERSION:2.0
PRODID:-//ChamberMaster//Event Calendar 2.0//EN
METHOD:PUBLISH
X-PUBLISHED-TTL:P3D
REFRESH-INTERVAL:P3D
CALSCALE:GREGORIAN
BEGIN:VEVENT
DTSTART:20241019T190000Z
DTEND:20241019T230000Z
X-MICROSOFT-CDO-ALLDAYEVENT:FALSE
SUMMARY:Warrenton Fall Festival
DESCRIPTION:Family Fun at Warrenton Fall Fest\n\n\n\nThe 5th Annual Warrenton Fall Festival will take place on Saturday\, October 19\, from Noon to 4 p.m. The event welcomes an estimated 4\,000 attendees from our community and takes place at Robinson Community Park in Warrenton.   Activities include:\n\n\n	Trunk or treat\n	Pumpkin launch\n	Dance performers\n	Carnival games\n	Vendor booths\n	Food trucks\n\nFree to attend!\n\nDonations to Spruce Up Warrenton are always welcome.  Accepting donations of candy or funds\, email for details.\nSpruce Up Warrenton is looking for local businesses\, groups and individuals that want to be a part of the festival: \n\nLearn more and apply to be a vendor here.\n\nUse this registration link to set up for Trunk or Treat.\n\nThey need volunteers to help in a variety of roles\, too.
X-ALT-DESC;FMTTYPE=text/html:<p>Family Fun at Warrenton Fall Fest<br />\n<br />\nThe 5th Annual Warrenton Fall Festival will take place on Saturday\, October 19\, from Noon to 4 p.m. The event welcomes an estimated 4\,000 attendees from our community and takes place at Robinson Community Park in Warrenton.&nbsp\; &nbsp\;<strong>Activities include:</strong></p>\n\n<ul>\n	<li>Trunk or treat</li>\n	<li>Pumpkin launch</li>\n	<li>Dance performers</li>\n	<li>Carnival games</li>\n	<li>Vendor booths</li>\n	<li>Food trucks</li>\n</ul>\nFree to attend!<br />\nDonations to Spruce Up Warrenton are always welcome.&nbsp\;&nbsp\;Accepting donations of candy or funds\, email for details.\n<p>Spruce Up Warrenton is looking for local businesses\, groups and individuals that want to be a part of the festival:&nbsp\;<br />\nLearn more and apply to be a vendor <a href="https://www.jotform.com/240706234423145" target="_blank">here</a>.<br />\nUse this registration link to set up for <a href="https://form.jotform.com/242606671156154" target="_blank">Trunk or Treat</a>.<br />\nThey need <a href="https://signup.com/go/tVwwbXH" target="_blank">volunteers</a> to help in a variety of roles\, too.<br />\n<br />\n&nbsp\;</p>\n
LOCATION:Warrenton City Park - Robinson Community Park 170 SW 3rd St.\, Warrenton Oregon
UID:e.149.37900
SEQUENCE:3
DTSTAMP:20260420T085005Z
URL:https://members.oldoregon.com/events/details/warrenton-fall-festival-37900
END:VEVENT

END:VCALENDAR
