BEGIN:VCALENDAR
VERSION:2.0
PRODID:-//ChamberMaster//Event Calendar 2.0//EN
METHOD:PUBLISH
X-PUBLISHED-TTL:P3D
REFRESH-INTERVAL:P3D
CALSCALE:GREGORIAN
BEGIN:VEVENT
DTSTART:20190504T170000Z
DTEND:20190506T000000Z
X-MICROSOFT-CDO-ALLDAYEVENT:FALSE
SUMMARY:Wildlife Center of the North Coast Open House
DESCRIPTION:On Saturday and Sunday (May 4-5) from 10am until 5pm\, we will be hosting our Spring Open House! This is a great opportunity to meet your wildlife rescue and rehab team\, as well as get a tour of our wildlife hospital and grounds. We will have a table with activities for kids\, tours\, plenty of information covering all that we do\, a merchandise table\, and a native tree and plant sale! This is a great place to pick up last-minute gifts for Mother's Day and a fun\, family-friendly way to spend the weekend! For more information\, please visit our website\, www.coastwildlife.org or give us a call at (503)338-0331.
X-ALT-DESC;FMTTYPE=text/html:On Saturday and Sunday (May 4-5) from 10am until 5pm\, we will be hosting our Spring Open House! This is a great opportunity to meet your wildlife rescue and rehab team\, as well as get a tour of our wildlife hospital and grounds. We will have a table with activities for kids\, tours\, plenty of information covering all that we do\, a merchandise table\, and a native tree and plant sale! This is a great place to pick up last-minute gifts for Mother&#39\;s Day and a fun\, family-friendly way to spend the weekend! For more information\, please visit our website\, www.coastwildlife.org or give us a call at (503)338-0331.
LOCATION:Our facility at 89686 Hwy. 202\, Astoria\, Oregon 97103
UID:e.149.27636
SEQUENCE:3
DTSTAMP:20260423T133648Z
URL:https://members.oldoregon.com/events/details/wildlife-center-of-the-north-coast-open-house-27636
END:VEVENT

END:VCALENDAR
